BEGIN:VCALENDAR
VERSION:2.0
PRODID:-//Method &amp; Concept - ECPv6.0.12//NONSGML v1.0//EN
CALSCALE:GREGORIAN
METHOD:PUBLISH
X-WR-CALNAME:Method &amp; Concept
X-ORIGINAL-URL:https://methodandconcept.jasonmayry.com
X-WR-CALDESC:Events for Method &amp; Concept
REFRESH-INTERVAL;VALUE=DURATION:PT1H
X-Robots-Tag:noindex
X-PUBLISHED-TTL:PT1H
BEGIN:VTIMEZONE
TZID:America/New_York
BEGIN:DAYLIGHT
TZOFFSETFROM:-0500
TZOFFSETTO:-0400
TZNAME:EDT
DTSTART:20200308T070000
END:DAYLIGHT
BEGIN:STANDARD
TZOFFSETFROM:-0400
TZOFFSETTO:-0500
TZNAME:EST
DTSTART:20201101T060000
END:STANDARD
BEGIN:DAYLIGHT
TZOFFSETFROM:-0500
TZOFFSETTO:-0400
TZNAME:EDT
DTSTART:20210314T070000
END:DAYLIGHT
BEGIN:STANDARD
TZOFFSETFROM:-0400
TZOFFSETTO:-0500
TZNAME:EST
DTSTART:20211107T060000
END:STANDARD
TZID:UTC
BEGIN:STANDARD
TZOFFSETFROM:+0000
TZOFFSETTO:+0000
TZNAME:UTC
DTSTART:20190101T000000
END:STANDARD
END:VTIMEZONE
BEGIN:VEVENT
DTSTART;VALUE=DATE:20210218
DTEND;VALUE=DATE:20210501
DTSTAMP:20260420T085033
CREATED:20201004T035622Z
LAST-MODIFIED:20201006T191254Z
UID:2235-1613606400-1619827199@methodandconcept.jasonmayry.com
SUMMARY:FAMILY + SEMI-PRECIOUS
DESCRIPTION:EXHIBITION\nFebruary 18 – April 30\, 2021 \nOPENING RECEPTION\nThursday February 18th\, 2021\, 5:30 – 8:00pm \nFAMILY + SEMI-PRECIOUS\nOur artists are at the heart of the gallery’s mission.  Appreciating the value of the artist\, Family is a mixed-media exhibition that brings the maker to the forefront of the conversation\, deepening the viewers connection to the work. \nSEMI-PRECIOUS questions our perceptions of value in this unpredictable world\, a new body of work has emerged from Chad Jensen. Highly contextual\, hybrid objects that intermix future-seeking forms with curiously extracted historical significance; Semi-precious combines notions from archeology\, material culture\, Wabi-Sabi\, and human value systems.
URL:https://methodandconcept.jasonmayry.com/attend/family-semi-precious/
LOCATION:METHOD & CONCEPT\, 111 10th St. S. Unit 112\, Naples\, FL\, 34102\, United States
CATEGORIES:Exhibition
ATTACH;FMTTYPE=image/jpeg:https://methodandconcept.jasonmayry.com/wp-content/uploads/2020/10/Chad-Jensen-Semi-Precious-Sculpture-scaled.jpg
ORGANIZER;CN="METHOD%20%26%20CONCEPT":MAILTO:info@methodandconcept.com
END:VEVENT
BEGIN:VEVENT
DTSTART;VALUE=DATE:20201203
DTEND;VALUE=DATE:20201207
DTSTAMP:20260420T085033
CREATED:20201003T024638Z
LAST-MODIFIED:20201006T185058Z
UID:2176-1606953600-1607299199@methodandconcept.jasonmayry.com
SUMMARY:BASEL NIGHTS
DESCRIPTION:AFTERNOON PROGRAMMING ~ FREE OF CHARGE & OPEN TO PUBLIC \nEVENING VIP EVENTS ~ TICKETED RESERVATIONS ONLINE\nDecember 3 – 6\, 2020 \nTHURS – SAT: 5:30pm – 8:00pm Evening VIP Events\nSUNDAY: VIP Gallery Brunch & Reception Closing \nIn homage to our favorite Miami art fairs this winter that have been shuttered due to COVID\, METHOD & CONCEPT is hosting Basel Nights running concurrently with the fairs previously planned schedule from Dec. 3rd through Dec. 6th.\nCome enjoy live artist talks\, demos\, and evening receptions with live music and dynamic daily-themed events around design\, craft\, fine art and performance. Each evening will feature innovative music\, crafted refreshments and VIP ticketed options for reservations.\nSunday December 6th highlights a close with a VIP gallery brunch.
URL:https://methodandconcept.jasonmayry.com/attend/basel-nights/
LOCATION:METHOD & CONCEPT\, 111 10th St. S. Unit 112\, Naples\, FL\, 34102\, United States
CATEGORIES:Event
ATTACH;FMTTYPE=image/jpeg:https://methodandconcept.jasonmayry.com/wp-content/uploads/2020/10/Method-and-Concept-DJ-Truck-DJ-Cooper-scaled.jpg
ORGANIZER;CN="METHOD%20%26%20CONCEPT":MAILTO:info@methodandconcept.com
END:VEVENT
BEGIN:VEVENT
DTSTART;VALUE=DATE:20201120
DTEND;VALUE=DATE:20210111
DTSTAMP:20260420T085033
CREATED:20201003T145043Z
LAST-MODIFIED:20201006T185619Z
UID:2194-1605830400-1610323199@methodandconcept.jasonmayry.com
SUMMARY:CONVERGENCE
DESCRIPTION:CARMELO BLANDINO EXHIBITION\nCo-curated by The Naples Botanical Garden and Method & Concept\nNovember 20\, 2020 – January 10\, 2021 \nOPENING RECEPTION NOV 20th: 5:00pm – 7:00pm\nNaples Botanical Gardens\, Kapnick Hall \nLIVE PAINTING & MEET THE ARTIST:\nSunday Nov 22 – Saturday Nov 28th\n11:00am – 5:00pm Daily\nNaples Botanical Gardens\, Kapnick Hall \nARTIST TALK LIVE STREAM & Q&A:\nNov 22 and Nov 25th from 10:00am – 11:30am \nConvergence brings the painting of Carmelo Blandino to the Naples Botanical Gardens in an exhibition inspired by flora and fauna of South West Florida. Known for his luscious\, abstract floral paintings combining the subtleties of classicism with the crackling energy of contemporary expressionism\, Carmelo Blandino explores the human connection to nature through large-scale works of art. Blandino — whose interactive painting process encourages the viewer to become part of his work — will produce a new series for this exhibition\, drawing inspiration from the living collection at Naples Botanical Garden. Meet-the-artist\, live painting from Sunday Nov 22 – Saturday Nov 28th\, with a special engagement on Thanksgiving Day. Livestream Q&A artist talk Nov 22 and 25 10-11:30am and community members will be invited to virtually collaborate with the artist\, offering participants a personal stake in the art and message within it — an urgent call to cherish and preserve nature.
URL:https://methodandconcept.jasonmayry.com/attend/carmelo-blandino-convergence/
LOCATION:FL
CATEGORIES:Exhibition
ATTACH;FMTTYPE=image/jpeg:https://methodandconcept.jasonmayry.com/wp-content/uploads/2020/06/Carmelo-Blandino-Process-Timelapse-scaled.jpg
ORGANIZER;CN="METHOD%20%26%20CONCEPT":MAILTO:info@methodandconcept.com
END:VEVENT
BEGIN:VEVENT
DTSTART;VALUE=DATE:20201112
DTEND;VALUE=DATE:20210206
DTSTAMP:20260420T085033
CREATED:20201003T031020Z
LAST-MODIFIED:20201006T185500Z
UID:2183-1605139200-1612569599@methodandconcept.jasonmayry.com
SUMMARY:BEYOND NATURE
DESCRIPTION:BEYOND NATURE EXHIBITION\nNovember 12 – February 5th\, 2020\nOPENING: November 12th from 4:00 – 7:00pm \nCelebrating an inaugural exhibition at a brand-new gallery\, METHOD & CONCEPT opens with an exhibition of work by Paris-based artists\, Arik Levy and Zoé Ouvrier entitled\, Beyond Nature. \nBeyond Nature marks the married couple’s first exhibition together and the debut of Ouvrier’s work in the United States. In tandem with the opening is the official dedication of Levy’s monumental sculpture\, Craterstone296\, a monumental marble sculpture that is permanently on view outside at the entrance of The Collective (111 10th St South)\, a contemporary lifestyle center and the new home to METHOD & CONCEPT. \nBoth Levy and Ouvrier create works inspired by forms found in nature\, placing emphasis on material and process. Presented together\, the couple’s interwoven dynamics become heightened\, offering an exploration of human nature\, emotion and self.
URL:https://methodandconcept.jasonmayry.com/attend/beyond-nature-exhibition-opening/
LOCATION:METHOD & CONCEPT\, 111 10th St. S. Unit 112\, Naples\, FL\, 34102\, United States
CATEGORIES:Exhibition
ATTACH;FMTTYPE=image/jpeg:https://methodandconcept.jasonmayry.com/wp-content/uploads/2020/10/Beyond-Nature-Arik-Levy-and-Zoe-Ouvrier-Method-and-Concept.jpg
ORGANIZER;CN="METHOD%20%26%20CONCEPT":MAILTO:info@methodandconcept.com
END:VEVENT
BEGIN:VEVENT
DTSTART;VALUE=DATE:20200601
DTEND;VALUE=DATE:20200831
DTSTAMP:20260420T085033
CREATED:20200624T094239Z
LAST-MODIFIED:20200710T154321Z
UID:133-1590969600-1598831999@methodandconcept.jasonmayry.com
SUMMARY:Design Dimensions
DESCRIPTION:March 15\, 2019 – Naples\, FL – METHOD & CONCEPT is pleased to announce Design Dimensions\, a two-person exhibition featuring work by Bower Studios and artist Matthew Shlian. The exhibition is on view March 28 – May 10\, 2019. An opening reception will be held on March 28 from 5:30 to 8 p.m. at the gallery (26 10th St. S Naples\, FL 34102). \nDesign Dimensions is an examination of depth\, light\, and self. Interweaving texture\, tones\, and multidimensionality\, it is a marriage of masterful engineering and artistic inspiration that operates as insight into the interpretations of the viewer’s consciousness. Bower’s multifaceted mirrors and Shlian’s delicately sculpted paper speaks to how we spatially orient ourselves to our surroundings. The combination of art and design creates an interactive study of the way one makes sense of things; existing as a domain where the mind is continuously engaged. \nBower’s mirrors project a physical and metaphorical reflection\, positing notions about perception and form. A mirror is a gateway to the soul\, but when fashioned in a way that engages parts of the whole\, it speaks more to what we choose to hide and reveal. As an ominous doorway\, mirrors suggest possibilities; as an object\, they display parts in more detail\, a limited examination. \nShlian’s intricate paper sculptures contain a range of moods in their highlights and shadows\, holding space and time within their nuanced depths\, forcing us to reckon with both. His work is representative of a constant state of flux\, encouraging focus and stillness. Merging Shilan’s innovative paper engineering with Bower’s experimental designs compels the viewer to immerse themselves into the exhibition\, imparting the viewer with a multidimensional experience that challenges the way one expects to see. \nBOWER is a New York City-based studio with a multidisciplinary approach to contemporary furniture and product design. With a focus on mirrors\, they explore perceptions of depth\, light and self. Through a free-thinking\, experimental process\, Bower aims to bring unexpected objects and environments into people’s lives\, with reflections taking center stage. Of all the things we surround ourselves with every day\, the mirror is most closely related to our consciousness—a humble technology for understanding ourselves. This defining spirit of discovery is present throughout their collections and is passed on to those who engage with a Bower design. Bower Studios is comprised of partners Danny Giannella\, Tammer Hijazi and Jeffrey Renz. \nMATTHEW SHLIAN is an artist and designer based in Ann Arbor\, Michigan. His work extends from drawings to large scale installations and collaborations with leading scientists at the University of Michigan\, where he is currently a visiting research scholar in the Department of Material Science. Using his skills as an engineer\, Shilian’s recent work for the National Science Foundation makes nano-scale interpretations of macro-scale paper folding structures.
URL:https://methodandconcept.jasonmayry.com/attend/design-dimensions/
LOCATION:FL
ATTACH;FMTTYPE=image/jpeg:https://methodandconcept.jasonmayry.com/wp-content/uploads/2020/06/ArchwayMirror1.jpg
END:VEVENT
BEGIN:VEVENT
DTSTART;VALUE=DATE:20190110
DTEND;VALUE=DATE:20190216
DTSTAMP:20260420T085033
CREATED:20200624T102107Z
LAST-MODIFIED:20200624T102229Z
UID:139-1547078400-1550275199@methodandconcept.jasonmayry.com
SUMMARY:Lyès: Energy of Life
DESCRIPTION:After five years as Thomas Riley Studio\, the Naples-based gallery\, art consultancy and design atelier recognized for exhibiting innovative artists across all mediums\, is now METHOD & CONCEPT. On Thursday\, January 10\, 2019\, METHOD & CONCEPT will debut “Energy of Life” by French visual artist Lyès. The exhibition will feature six “wall-source” sculptures that explore the manifestations of energy in the world. An artist reception will take place at the gallery\, located at 26 10th St S\, Naples\, FL\, on Thursday\, January 10\, 2019 from 5:30 to 8 p.m. “Energy of Life” will be on view through Friday\, February 15\, 2019. \nInspired by quantum physics and Zen philosophies\, energy is omnipresent in Lyès work. The six monumental\, circular sculptures are hypotonic\, large-scale fusions of acrylic and aluminum that represent the interconnectedness of the world—both literally and metaphorically. Steeped in spirituality associated with Mindfulness\, Lyès sculptures are abstract tools that captivate viewers and help facilitate a heightened level of consciousness. The artist borrows from a range of traditions and art movements including Minimalism\, Abstract Art\, Conceptual Art\, with nods to James Turrell and Olafur Eliasson. \nWorks in the exhibition include Eternal Cocoon\, Union and Inner Infinity. Eternal Cocoon is a series of three interconnected\, shimmering colored disks that use optical illusions to manipulate the viewers’ gaze. The silky textures and tonal nuance imbue a sense of peace and tranquility. Union takes on an identical structure but in vibrant royal blue\, complimenting Eternal Cocoon’s warmth with a calm\, yet inviting glow. Inner Infinity consists of two monochromatic disks—one black and one white that join together with shades of gray. The separation and ultimate intersection of the two tones demonstrate a cyclical quandary\, that is\, the ongoing dilemma humans face when trying to claim a place and position in the world. Lyès created this piece to reflect on the inner dialogue of humankind\, the complementarity between good or bad. \n“Energy Of Life” and Lyès’ larger artistic practice and Mindful spirituality offers a calm\, optimistic counterbalance to the chaos in the world. His sculptures invite viewers to pause\, think and appreciate the positive energy surrounding us all. \nAbout Lyès\nLyès (b. 1978) lives and works between France and Hong Kong. Inspired by quantum physics and Zen philosophies\, his work celebrates life and energy in the universe. He uses painting\, photography\, light and installation\, often with a prediction for monumental artworks\, to discover\, enhance and demonstrate the magic\, mystery and natural forces present everywhere. Feeling connected to the world\, and wanting to act positively\, Lyès joined the Social and Solidarity economy movement\, and in 2012 created the Source Project. He aims to spread love\, joy and Mindfulness.
URL:https://methodandconcept.jasonmayry.com/attend/lyes-energy-of-life/
LOCATION:FL
CATEGORIES:Exhibition
ATTACH;FMTTYPE=image/jpeg:https://methodandconcept.jasonmayry.com/wp-content/uploads/2020/06/Union_Low.jpg
END:VEVENT
END:VCALENDAR